BEGIN:VCALENDAR
VERSION:2.0
PRODID:-//Wild Goose Space - ECPv6.15.20//NONSGML v1.0//EN
CALSCALE:GREGORIAN
METHOD:PUBLISH
X-WR-CALNAME:Wild Goose Space
X-ORIGINAL-URL:https://www.wildgoosespace.org.uk
X-WR-CALDESC:Events for Wild Goose Space
REFRESH-INTERVAL;VALUE=DURATION:PT1H
X-Robots-Tag:noindex
X-PUBLISHED-TTL:PT1H
BEGIN:VTIMEZONE
TZID:UTC
BEGIN:STANDARD
TZOFFSETFROM:+0000
TZOFFSETTO:+0000
TZNAME:UTC
DTSTART:20170101T000000
END:STANDARD
END:VTIMEZONE
BEGIN:VEVENT
DTSTART;TZID=UTC:20180911T143000
DTEND;TZID=UTC:20180911T154500
DTSTAMP:20260423T173213
CREATED:20180902T161720Z
LAST-MODIFIED:20190108T164544Z
UID:5230-1536676200-1536680700@www.wildgoosespace.org.uk
SUMMARY:BYOB Choir
DESCRIPTION:Bring Your Own Baby choir\n\n\n2.30pm to 3.45pm\n\n\n3:45 pm – 5:00 pm Tuesdays…….Every week during Term time\n\n\n\n\nBYOB Choir With Julia Turner. \nContact Julia          juliabfturner@gmail.com
URL:https://www.wildgoosespace.org.uk/event/byob-choir-17/
END:VEVENT
END:VCALENDAR