BEGIN:VCALENDAR
VERSION:2.0
PRODID:-//Wild Goose Space - ECPv6.15.20//NONSGML v1.0//EN
CALSCALE:GREGORIAN
METHOD:PUBLISH
X-WR-CALNAME:Wild Goose Space
X-ORIGINAL-URL:https://www.wildgoosespace.org.uk
X-WR-CALDESC:Events for Wild Goose Space
REFRESH-INTERVAL;VALUE=DURATION:PT1H
X-Robots-Tag:noindex
X-PUBLISHED-TTL:PT1H
BEGIN:VTIMEZONE
TZID:UTC
BEGIN:STANDARD
TZOFFSETFROM:+0000
TZOFFSETTO:+0000
TZNAME:UTC
DTSTART:20170101T000000
END:STANDARD
END:VTIMEZONE
BEGIN:VEVENT
DTSTART;TZID=UTC:20180904T154500
DTEND;TZID=UTC:20180904T170000
DTSTAMP:20260423T173153
CREATED:20180802T101104Z
LAST-MODIFIED:20180802T101104Z
UID:4887-1536075900-1536080400@www.wildgoosespace.org.uk
SUMMARY:BYOB Choir
DESCRIPTION:Bring Your Own Baby choir\n\n3:45 pm – 5:00 pm Tuesdays…….Every week during Term time\n\n\n\n\nBYOB Choir With Julia Turner. \nContact Julia          juliabfturner@gmail.com
URL:https://www.wildgoosespace.org.uk/event/byob-choir-15/
END:VEVENT
BEGIN:VEVENT
DTSTART;TZID=UTC:20180904T181500
DTEND;TZID=UTC:20180904T194500
DTSTAMP:20260423T173153
CREATED:20180802T101912Z
LAST-MODIFIED:20180802T101912Z
UID:4904-1536084900-1536090300@www.wildgoosespace.org.uk
SUMMARY:Yoga With Sarah
DESCRIPTION:Yoga with Sarah Waterfield. Contact Sarah \n  \nsarah@thewholenessofyoga.com
URL:https://www.wildgoosespace.org.uk/event/yoga-with-sarah-7/
END:VEVENT
END:VCALENDAR