BEGIN:VCALENDAR
VERSION:2.0
PRODID:-//Wild Goose Space - ECPv6.15.20//NONSGML v1.0//EN
CALSCALE:GREGORIAN
METHOD:PUBLISH
X-ORIGINAL-URL:https://www.wildgoosespace.org.uk
X-WR-CALDESC:Events for Wild Goose Space
REFRESH-INTERVAL;VALUE=DURATION:PT1H
X-Robots-Tag:noindex
X-PUBLISHED-TTL:PT1H
BEGIN:VTIMEZONE
TZID:UTC
BEGIN:STANDARD
TZOFFSETFROM:+0000
TZOFFSETTO:+0000
TZNAME:UTC
DTSTART:20170101T000000
END:STANDARD
END:VTIMEZONE
BEGIN:VEVENT
DTSTART;TZID=UTC:20180903T080000
DTEND;TZID=UTC:20180903T170000
DTSTAMP:20260423T173342
CREATED:20180411T104429Z
LAST-MODIFIED:20180411T104429Z
UID:4363-1535961600-1535994000@www.wildgoosespace.org.uk
SUMMARY:TERM STARTS
DESCRIPTION:TERM STARTS
URL:https://www.wildgoosespace.org.uk/event/term-starts-3/
END:VEVENT
BEGIN:VEVENT
DTSTART;TZID=UTC:20180903T103000
DTEND;TZID=UTC:20180903T233000
DTSTAMP:20260423T173342
CREATED:20180802T093646Z
LAST-MODIFIED:20181105T101400Z
UID:4818-1535970600-1536017400@www.wildgoosespace.org.uk
SUMMARY:Dance Mums
DESCRIPTION:Dance Mums \n\nNEW LOCATION:\nNorth Bristol @ Wild Goose Space\n228 Mina Rd\, Bristol BS2 9YP\n\nMondays 10:30am-11:15am\n\nSvetlana Ovsyannikova (Woodgate) \n\nOvDa Managing Director/Dance teacher/Choreographer/Performer/Dancer\nwww.ovdadance.com\n\n07794 111608
URL:https://www.wildgoosespace.org.uk/event/dance-mums-6/
END:VEVENT
BEGIN:VEVENT
DTSTART;TZID=UTC:20180903T171500
DTEND;TZID=UTC:20180903T181500
DTSTAMP:20260423T173342
CREATED:20180802T094037Z
LAST-MODIFIED:20180802T094037Z
UID:4835-1535994900-1535998500@www.wildgoosespace.org.uk
SUMMARY:Pilates With Paula
DESCRIPTION:Pilates with Paula Whatman. \n5.15pm to 6.15pm        and 6.15pm to 7.15pm \nEVERY MONDAY TERM TIME. \n  \nContact    07914 400160
URL:https://www.wildgoosespace.org.uk/event/pilates-with-paula-12/
END:VEVENT
END:VCALENDAR