BEGIN:VCALENDAR
VERSION:2.0
PRODID:-//Wild Goose Space - ECPv6.15.20//NONSGML v1.0//EN
CALSCALE:GREGORIAN
METHOD:PUBLISH
X-ORIGINAL-URL:https://www.wildgoosespace.org.uk
X-WR-CALDESC:Events for Wild Goose Space
REFRESH-INTERVAL;VALUE=DURATION:PT1H
X-Robots-Tag:noindex
X-PUBLISHED-TTL:PT1H
BEGIN:VTIMEZONE
TZID:UTC
BEGIN:STANDARD
TZOFFSETFROM:+0000
TZOFFSETTO:+0000
TZNAME:UTC
DTSTART:20170101T000000
END:STANDARD
END:VTIMEZONE
BEGIN:VEVENT
DTSTART;TZID=UTC:20180806T103000
DTEND;TZID=UTC:20180806T113000
DTSTAMP:20260423T160417
CREATED:20180801T100510Z
LAST-MODIFIED:20180801T100649Z
UID:4790-1533551400-1533555000@www.wildgoosespace.org.uk
SUMMARY:Dance Mums
DESCRIPTION:Dance Mums \n\nNEW LOCATION:\nNorth Bristol @ Wild Goose Space\n228 Mina Rd\, Bristol BS2 9YP\n\nMondays 10:30am-11:15am\n\nSvetlana Ovsyannikova (Woodgate) \n\n\nOvDa Managing Director/Dance teacher/Choreographer/Performer/Dancer\n\nwww.ovsyannikovadance.com\n07794 111608
URL:https://www.wildgoosespace.org.uk/event/dance-mums-5/
END:VEVENT
END:VCALENDAR