BEGIN:VCALENDAR
VERSION:2.0
PRODID:-//Wild Goose Space - ECPv6.15.20//NONSGML v1.0//EN
CALSCALE:GREGORIAN
METHOD:PUBLISH
X-WR-CALNAME:Wild Goose Space
X-ORIGINAL-URL:https://www.wildgoosespace.org.uk
X-WR-CALDESC:Events for Wild Goose Space
REFRESH-INTERVAL;VALUE=DURATION:PT1H
X-Robots-Tag:noindex
X-PUBLISHED-TTL:PT1H
BEGIN:VTIMEZONE
TZID:UTC
BEGIN:STANDARD
TZOFFSETFROM:+0000
TZOFFSETTO:+0000
TZNAME:UTC
DTSTART:20170101T000000
END:STANDARD
END:VTIMEZONE
BEGIN:VEVENT
DTSTART;TZID=UTC:20180630T090000
DTEND;TZID=UTC:20180630T173000
DTSTAMP:20260423T125453
CREATED:20170313T131357Z
LAST-MODIFIED:20170313T131357Z
UID:2245-1530349200-1530379800@www.wildgoosespace.org.uk
SUMMARY:BWY Foundation Course
DESCRIPTION:British Wheel of Yoga Foundation Course. \nEve Douglas. \nevedouglas@hotmail.co.uk
URL:https://www.wildgoosespace.org.uk/event/bwy-foundation-course-3/
END:VEVENT
BEGIN:VEVENT
DTSTART;TZID=UTC:20180630T190000
DTEND;TZID=UTC:20180630T220000
DTSTAMP:20260423T125453
CREATED:20180226T132744Z
LAST-MODIFIED:20180226T132744Z
UID:3848-1530385200-1530396000@www.wildgoosespace.org.uk
SUMMARY:Sound Journey
DESCRIPTION:Sound Journey \n  \nAnthar.
URL:https://www.wildgoosespace.org.uk/event/sound-journey-2/
END:VEVENT
END:VCALENDAR