BEGIN:VCALENDAR
VERSION:2.0
PRODID:-//Wild Goose Space - ECPv6.15.20//NONSGML v1.0//EN
CALSCALE:GREGORIAN
METHOD:PUBLISH
X-ORIGINAL-URL:https://www.wildgoosespace.org.uk
X-WR-CALDESC:Events for Wild Goose Space
REFRESH-INTERVAL;VALUE=DURATION:PT1H
X-Robots-Tag:noindex
X-PUBLISHED-TTL:PT1H
BEGIN:VTIMEZONE
TZID:UTC
BEGIN:STANDARD
TZOFFSETFROM:+0000
TZOFFSETTO:+0000
TZNAME:UTC
DTSTART:20170101T000000
END:STANDARD
END:VTIMEZONE
BEGIN:VEVENT
DTSTART;TZID=UTC:20180606T094500
DTEND;TZID=UTC:20180606T111500
DTSTAMP:20260423T125535
CREATED:20180621T115015Z
LAST-MODIFIED:20180621T115158Z
UID:4676-1528278300-1528283700@www.wildgoosespace.org.uk
SUMMARY:Shakti Yoga Circle
DESCRIPTION:marinellbenelli@gmail.com \nMarinella \n07856 125677
URL:https://www.wildgoosespace.org.uk/event/shakti-yoga-circle-4/
END:VEVENT
END:VCALENDAR