BEGIN:VCALENDAR
VERSION:2.0
PRODID:-//Wild Goose Space - ECPv6.15.20//NONSGML v1.0//EN
CALSCALE:GREGORIAN
METHOD:PUBLISH
X-WR-CALNAME:Wild Goose Space
X-ORIGINAL-URL:https://www.wildgoosespace.org.uk
X-WR-CALDESC:Events for Wild Goose Space
REFRESH-INTERVAL;VALUE=DURATION:PT1H
X-Robots-Tag:noindex
X-PUBLISHED-TTL:PT1H
BEGIN:VTIMEZONE
TZID:UTC
BEGIN:STANDARD
TZOFFSETFROM:+0000
TZOFFSETTO:+0000
TZNAME:UTC
DTSTART:20170101T000000
END:STANDARD
END:VTIMEZONE
BEGIN:VEVENT
DTSTART;TZID=UTC:20180602T090000
DTEND;TZID=UTC:20180602T173000
DTSTAMP:20260423T112543
CREATED:20170313T130909Z
LAST-MODIFIED:20170313T131943Z
UID:2243-1527930000-1527960600@www.wildgoosespace.org.uk
SUMMARY:BWY Foundation Course
DESCRIPTION:British Wheel of Yoga Foundation Course. \nEve Douglas. \nevedouglas@hotmail.co.uk
URL:https://www.wildgoosespace.org.uk/event/bwy-3/
END:VEVENT
END:VCALENDAR