BEGIN:VCALENDAR
VERSION:2.0
PRODID:-//Wild Goose Space - ECPv6.15.20//NONSGML v1.0//EN
CALSCALE:GREGORIAN
METHOD:PUBLISH
X-WR-CALNAME:Wild Goose Space
X-ORIGINAL-URL:https://www.wildgoosespace.org.uk
X-WR-CALDESC:Events for Wild Goose Space
REFRESH-INTERVAL;VALUE=DURATION:PT1H
X-Robots-Tag:noindex
X-PUBLISHED-TTL:PT1H
BEGIN:VTIMEZONE
TZID:UTC
BEGIN:STANDARD
TZOFFSETFROM:+0000
TZOFFSETTO:+0000
TZNAME:UTC
DTSTART:20170101T000000
END:STANDARD
END:VTIMEZONE
BEGIN:VEVENT
DTSTART;TZID=UTC:20180519T090000
DTEND;TZID=UTC:20180520T173000
DTSTAMP:20260423T112505
CREATED:20161113T143258Z
LAST-MODIFIED:20161113T143258Z
UID:1250-1526720400-1526837400@www.wildgoosespace.org.uk
SUMMARY:BWY Training
DESCRIPTION:British Wheel of Yoga Training Weekend. \nContact Eve. \neve.yoga@hotmail.co.uk \n 
URL:https://www.wildgoosespace.org.uk/event/bwy-training-8/
END:VEVENT
BEGIN:VEVENT
DTSTART;TZID=UTC:20180520T190000
DTEND;TZID=UTC:20180520T210000
DTSTAMP:20260423T112505
CREATED:20180307T175133Z
LAST-MODIFIED:20180307T175133Z
UID:4198-1526842800-1526850000@www.wildgoosespace.org.uk
SUMMARY:TRE Event
DESCRIPTION:  \nTRE Event \n  \nLinda Johnson
URL:https://www.wildgoosespace.org.uk/event/tre-event-20/
END:VEVENT
END:VCALENDAR