BEGIN:VCALENDAR
VERSION:2.0
PRODID:-//Wild Goose Space - ECPv6.15.20//NONSGML v1.0//EN
CALSCALE:GREGORIAN
METHOD:PUBLISH
X-ORIGINAL-URL:https://www.wildgoosespace.org.uk
X-WR-CALDESC:Events for Wild Goose Space
REFRESH-INTERVAL;VALUE=DURATION:PT1H
X-Robots-Tag:noindex
X-PUBLISHED-TTL:PT1H
BEGIN:VTIMEZONE
TZID:UTC
BEGIN:STANDARD
TZOFFSETFROM:+0000
TZOFFSETTO:+0000
TZNAME:UTC
DTSTART:20170101T000000
END:STANDARD
END:VTIMEZONE
BEGIN:VEVENT
DTSTART;TZID=UTC:20180430T120000
DTEND;TZID=UTC:20180430T160000
DTSTAMP:20260423T094139
CREATED:20180302T154450Z
LAST-MODIFIED:20180302T154450Z
UID:3858-1525089600-1525104000@www.wildgoosespace.org.uk
SUMMARY:Private Hire
DESCRIPTION:Private Hire \n  \n  \n  \n  \nEmma\, 222\, Mina Road
URL:https://www.wildgoosespace.org.uk/event/private-hire-64/
END:VEVENT
BEGIN:VEVENT
DTSTART;TZID=UTC:20180430T180000
DTEND;TZID=UTC:20180430T230000
DTSTAMP:20260423T094139
CREATED:20180430T140527Z
LAST-MODIFIED:20180430T140527Z
UID:4434-1525111200-1525129200@www.wildgoosespace.org.uk
SUMMARY:Private Hire ( P )
DESCRIPTION:Gary
URL:https://www.wildgoosespace.org.uk/event/private-hire-p-6/
END:VEVENT
END:VCALENDAR