BEGIN:VCALENDAR
VERSION:2.0
PRODID:-//Wild Goose Space - ECPv6.15.20//NONSGML v1.0//EN
CALSCALE:GREGORIAN
METHOD:PUBLISH
X-WR-CALNAME:Wild Goose Space
X-ORIGINAL-URL:https://www.wildgoosespace.org.uk
X-WR-CALDESC:Events for Wild Goose Space
REFRESH-INTERVAL;VALUE=DURATION:PT1H
X-Robots-Tag:noindex
X-PUBLISHED-TTL:PT1H
BEGIN:VTIMEZONE
TZID:UTC
BEGIN:STANDARD
TZOFFSETFROM:+0000
TZOFFSETTO:+0000
TZNAME:UTC
DTSTART:20170101T000000
END:STANDARD
END:VTIMEZONE
BEGIN:VEVENT
DTSTART;TZID=UTC:20180414T090000
DTEND;TZID=UTC:20180414T173000
DTSTAMP:20260423T093959
CREATED:20170313T130637Z
LAST-MODIFIED:20170313T130637Z
UID:2239-1523696400-1523727000@www.wildgoosespace.org.uk
SUMMARY:BWY Foundation Course
DESCRIPTION:British Wheel of Yoga Foundation Course. \nEve Douglas. \nevedouglas@hotmail.co.uk
URL:https://www.wildgoosespace.org.uk/event/bwy-foundation-course/
END:VEVENT
BEGIN:VEVENT
DTSTART;TZID=UTC:20180414T193000
DTEND;TZID=UTC:20180414T213000
DTSTAMP:20260423T093959
CREATED:20180414T122549Z
LAST-MODIFIED:20180414T122549Z
UID:4386-1523734200-1523741400@www.wildgoosespace.org.uk
SUMMARY:Women's Circle
DESCRIPTION:Paloma
URL:https://www.wildgoosespace.org.uk/event/womens-circle-10/
END:VEVENT
END:VCALENDAR