BEGIN:VCALENDAR
VERSION:2.0
PRODID:-//Wild Goose Space - ECPv6.15.20//NONSGML v1.0//EN
CALSCALE:GREGORIAN
METHOD:PUBLISH
X-WR-CALNAME:Wild Goose Space
X-ORIGINAL-URL:https://www.wildgoosespace.org.uk
X-WR-CALDESC:Events for Wild Goose Space
REFRESH-INTERVAL;VALUE=DURATION:PT1H
X-Robots-Tag:noindex
X-PUBLISHED-TTL:PT1H
BEGIN:VTIMEZONE
TZID:UTC
BEGIN:STANDARD
TZOFFSETFROM:+0000
TZOFFSETTO:+0000
TZNAME:UTC
DTSTART:20170101T000000
END:STANDARD
END:VTIMEZONE
BEGIN:VEVENT
DTSTART;TZID=UTC:20180409T080000
DTEND;TZID=UTC:20180409T170000
DTSTAMP:20260423T094000
CREATED:20171127T121709Z
LAST-MODIFIED:20171127T121709Z
UID:3347-1523260800-1523293200@www.wildgoosespace.org.uk
SUMMARY:SCHOOL RESUSMES
DESCRIPTION:
URL:https://www.wildgoosespace.org.uk/event/school-resusmes/
END:VEVENT
BEGIN:VEVENT
DTSTART;TZID=UTC:20180409T103000
DTEND;TZID=UTC:20180409T111500
DTSTAMP:20260423T094000
CREATED:20180303T163355Z
LAST-MODIFIED:20180303T163355Z
UID:3921-1523269800-1523272500@www.wildgoosespace.org.uk
SUMMARY:Dance Mums
DESCRIPTION:Dance Mums \n\nNEW LOCATION:\nNorth Bristol @ Wild Goose Space\n228 Mina Rd\, Bristol BS2 9YP\n\nMondays 10:30am-11:15am\n\nSvetlana Ovsyannikova (Woodgate) \n\n\nOvDa Managing Director/Dance teacher/Choreographer/Performer/Dancer\n\nwww.ovsyannikovadance.com\n07794 111608
URL:https://www.wildgoosespace.org.uk/event/dance-mums-4/
END:VEVENT
BEGIN:VEVENT
DTSTART;TZID=UTC:20180409T171500
DTEND;TZID=UTC:20180409T191500
DTSTAMP:20260423T094000
CREATED:20180303T163804Z
LAST-MODIFIED:20180303T163804Z
UID:3938-1523294100-1523301300@www.wildgoosespace.org.uk
SUMMARY:Pilates with Paula
DESCRIPTION:Pilates with Paula Whatman. \n5.15pm to 6.15pm        and 6.15pm to 7.15pm \nEVERY MONDAY TERM TIME. \n  \nContact    07914 400160
URL:https://www.wildgoosespace.org.uk/event/pilates-with-paula-11/
END:VEVENT
BEGIN:VEVENT
DTSTART;TZID=UTC:20180409T193000
DTEND;TZID=UTC:20180409T213000
DTSTAMP:20260423T094000
CREATED:20180416T114436Z
LAST-MODIFIED:20180416T114436Z
UID:4395-1523302200-1523309400@www.wildgoosespace.org.uk
SUMMARY:Georgian Choir
DESCRIPTION:  \nGeorgian Choir  with Anthony Johnson. \nEvery Monday evening 7.30pm to 9.30pm during Term time. \nContact Anthony 07950 052100
URL:https://www.wildgoosespace.org.uk/event/georgian-choir-8/
END:VEVENT
BEGIN:VEVENT
DTSTART;TZID=UTC:20180409T200000
DTEND;TZID=UTC:20180409T210000
DTSTAMP:20260423T094000
CREATED:20180303T170859Z
LAST-MODIFIED:20180303T170859Z
UID:4023-1523304000-1523307600@www.wildgoosespace.org.uk
SUMMARY:
DESCRIPTION:Phone:07733 182538Email:avantipilates@gmail.com
URL:https://www.wildgoosespace.org.uk/event/4023/
END:VEVENT
END:VCALENDAR