BEGIN:VCALENDAR
VERSION:2.0
PRODID:-//Wild Goose Space - ECPv6.15.20//NONSGML v1.0//EN
CALSCALE:GREGORIAN
METHOD:PUBLISH
X-WR-CALNAME:Wild Goose Space
X-ORIGINAL-URL:https://www.wildgoosespace.org.uk
X-WR-CALDESC:Events for Wild Goose Space
REFRESH-INTERVAL;VALUE=DURATION:PT1H
X-Robots-Tag:noindex
X-PUBLISHED-TTL:PT1H
BEGIN:VTIMEZONE
TZID:UTC
BEGIN:STANDARD
TZOFFSETFROM:+0000
TZOFFSETTO:+0000
TZNAME:UTC
DTSTART:20170101T000000
END:STANDARD
END:VTIMEZONE
BEGIN:VEVENT
DTSTART;TZID=UTC:20180405T111500
DTEND;TZID=UTC:20180405T131500
DTSTAMP:20260423T093954
CREATED:20180302T154210Z
LAST-MODIFIED:20180302T154210Z
UID:3856-1522926900-1522934100@www.wildgoosespace.org.uk
SUMMARY:BYOB Choir
DESCRIPTION:BYOB CHOIR\n\n11am to 1.15pm – 2 Sessions Thursdays during Term Time\n\n\nBYOB Choir With Julia Turner. \nContact Julia \njuliabfturner@gmail.com
URL:https://www.wildgoosespace.org.uk/event/byob-choir-12/
END:VEVENT
END:VCALENDAR