BEGIN:VCALENDAR
VERSION:2.0
PRODID:-//Wild Goose Space - ECPv6.15.20//NONSGML v1.0//EN
CALSCALE:GREGORIAN
METHOD:PUBLISH
X-ORIGINAL-URL:https://www.wildgoosespace.org.uk
X-WR-CALDESC:Events for Wild Goose Space
REFRESH-INTERVAL;VALUE=DURATION:PT1H
X-Robots-Tag:noindex
X-PUBLISHED-TTL:PT1H
BEGIN:VTIMEZONE
TZID:UTC
BEGIN:STANDARD
TZOFFSETFROM:+0000
TZOFFSETTO:+0000
TZNAME:UTC
DTSTART:20170101T000000
END:STANDARD
END:VTIMEZONE
BEGIN:VEVENT
DTSTART;TZID=UTC:20180402T080000
DTEND;TZID=UTC:20180402T170000
DTSTAMP:20260423T094220
CREATED:20171127T121525Z
LAST-MODIFIED:20171127T121525Z
UID:3345-1522656000-1522688400@www.wildgoosespace.org.uk
SUMMARY:EASTER MONDAY
DESCRIPTION:
URL:https://www.wildgoosespace.org.uk/event/easter-monday-2/
END:VEVENT
END:VCALENDAR