BEGIN:VCALENDAR
VERSION:2.0
PRODID:-//Wild Goose Space - ECPv6.15.20//NONSGML v1.0//EN
CALSCALE:GREGORIAN
METHOD:PUBLISH
X-WR-CALNAME:Wild Goose Space
X-ORIGINAL-URL:https://www.wildgoosespace.org.uk
X-WR-CALDESC:Events for Wild Goose Space
REFRESH-INTERVAL;VALUE=DURATION:PT1H
X-Robots-Tag:noindex
X-PUBLISHED-TTL:PT1H
BEGIN:VTIMEZONE
TZID:UTC
BEGIN:STANDARD
TZOFFSETFROM:+0000
TZOFFSETTO:+0000
TZNAME:UTC
DTSTART:20170101T000000
END:STANDARD
END:VTIMEZONE
BEGIN:VEVENT
DTSTART;TZID=UTC:20180330T080000
DTEND;TZID=UTC:20180330T170000
DTSTAMP:20260423T093937
CREATED:20171127T121444Z
LAST-MODIFIED:20171127T121444Z
UID:3343-1522396800-1522429200@www.wildgoosespace.org.uk
SUMMARY:GOOD FRIDAY
DESCRIPTION:
URL:https://www.wildgoosespace.org.uk/event/good-friday-2/
END:VEVENT
BEGIN:VEVENT
DTSTART;TZID=UTC:20180330T120000
DTEND;TZID=UTC:20180330T160000
DTSTAMP:20260423T093937
CREATED:20180306T182512Z
LAST-MODIFIED:20180306T182512Z
UID:4059-1522411200-1522425600@www.wildgoosespace.org.uk
SUMMARY:PRIVATE HIRE
DESCRIPTION:Emma
URL:https://www.wildgoosespace.org.uk/event/private-hire-65/
END:VEVENT
BEGIN:VEVENT
DTSTART;TZID=UTC:20180330T190000
DTEND;TZID=UTC:20180330T203000
DTSTAMP:20260423T093937
CREATED:20170920T133620Z
LAST-MODIFIED:20180306T182801Z
UID:3114-1522436400-1522441800@www.wildgoosespace.org.uk
SUMMARY:Wing Chun with Liam
DESCRIPTION:Wing Chun \nWith Liam Duggan \nContact Liam on liamduggan2600@gmail.com \nPhone 07980 537534 \n  \nWing Chun/VingTsun is a Southern Chinese Martial Art with its roots in the Shaolin Temple. According to legend\, it was invented by a Shaolin Nun to be the the most efficient way to defeat a stronger larger opponent. Wing Chun uses the natural mechanics of the body and relaxed power to generate and dissipate force making it suitable for anyone\, regardless of age or sex.\n\nWhilst being a practical and realistic self defence system\, Wing Chun practice is also a form of meditation\, helping to relax the mind and body. Regular practice has many health benefits including improved posture\, focus and overall fitness.\n\nWing Chun was made famous by Bruce Lee and later by his teacher\, Ip Man. Sifu Liam Duggan has direct lineage to Ip Man and has trained with his son\, Grandmaster Ip Ching in Hong Kong.\n\n\nSee below to visit website of Liam’s Teacher……..\nwww.chingmo.co.uk
URL:https://www.wildgoosespace.org.uk/event/wing-chun-liam-2-2018-03-30/
END:VEVENT
END:VCALENDAR